BEGIN:VCALENDAR
METHOD:PUBLISH
PRODID:-//Your-Prodid-Here//NONSGML iCalcreator 0.9.15//
VERSION:2.0
BEGIN:VEVENT
CLASS:PUBLIC
DTSTART;VALUE=DATE-TIME:20241008T000000
DTEND;VALUE=DATE-TIME:20241009T000000
DTSTAMP:20260420T052254Z
LOCATION:Feuerwehr Sulzemoos
PRIORITY:3
SUMMARY:Reservierung Feuerlöschtrainer
UID:9a46dcfd0bc80077bce117b9b81741eb@your-domain.com
URL:https://www.kbi-dachau.de/reservierung-feuerloeschtrainer_v_99.html
END:VEVENT
END:VCALENDAR
	
