BEGIN:VCALENDAR
METHOD:PUBLISH
PRODID:-//Your-Prodid-Here//NONSGML iCalcreator 0.9.15//
VERSION:2.0
BEGIN:VEVENT
CLASS:PUBLIC
DTSTART;VALUE=DATE-TIME:20240810T000000
DTEND;VALUE=DATE-TIME:20240818T000000
DTSTAMP:20260420T052259Z
LOCATION:Feuerwehr Oberzeitlbach
PRIORITY:3
SUMMARY:Reservierung Feuerlöschtrainer
UID:d29fe1d146fe25f5cb97b64a318c1f57@your-domain.com
URL:https://www.kbi-dachau.de/reservierung-feuerloeschtrainer_v_98.html
END:VEVENT
END:VCALENDAR
	
