BEGIN:VCALENDAR
METHOD:PUBLISH
PRODID:-//Your-Prodid-Here//NONSGML iCalcreator 0.9.15//
VERSION:2.0
BEGIN:VEVENT
CLASS:PUBLIC
DTSTART;VALUE=DATE-TIME:20240616T000000
DTEND;VALUE=DATE-TIME:20240616T235959
DTSTAMP:20260420T052247Z
LOCATION:Feuerwehr Haid
PRIORITY:3
SUMMARY:Reservierung Hüpfburg
UID:1138200a8c6bec28432f904d0fe59b0c@your-domain.com
URL:https://www.kbi-dachau.de/reservierung-huepfburg_v_97.html
END:VEVENT
END:VCALENDAR
	
