BEGIN:VCALENDAR
METHOD:PUBLISH
PRODID:-//Your-Prodid-Here//NONSGML iCalcreator 0.9.15//
VERSION:2.0
BEGIN:VEVENT
CLASS:PUBLIC
DTSTART;VALUE=DATE-TIME:20250706T000000
DTEND;VALUE=DATE-TIME:20250706T235959
DTSTAMP:20260420T052020Z
LOCATION:Feuerwehr Petershausen
PRIORITY:3
SUMMARY:Reservierung Hüpfburg
UID:c806d444b51418423592cdaec39eb77f@your-domain.com
URL:https://www.kbi-dachau.de/reservierung-huepfburg_v_96.html
END:VEVENT
END:VCALENDAR
	
