BEGIN:VCALENDAR
METHOD:PUBLISH
PRODID:-//Your-Prodid-Here//NONSGML iCalcreator 0.9.15//
VERSION:2.0
BEGIN:VEVENT
CLASS:PUBLIC
DTSTART;VALUE=DATE-TIME:20240427T000000
DTEND;VALUE=DATE-TIME:20240427T235959
DTSTAMP:20260420T052254Z
LOCATION:Feuerwehr Ilmmünster 
PRIORITY:3
SUMMARY:Reservierung Hüpfburg
UID:13b494796dddbde455a84bf1c9d51f89@your-domain.com
URL:https://www.kbi-dachau.de/reservierung-huepfburg_v_95.html
END:VEVENT
END:VCALENDAR
	
