BEGIN:VCALENDAR
METHOD:PUBLISH
PRODID:-//Your-Prodid-Here//NONSGML iCalcreator 0.9.15//
VERSION:2.0
BEGIN:VEVENT
CLASS:PUBLIC
DTSTART;VALUE=DATE-TIME:20240531T000000
DTEND;VALUE=DATE-TIME:20240609T235959
DTSTAMP:20260420T075318Z
LOCATION:Feuerwehr Kollbach
PRIORITY:3
SUMMARY:Reservierung Feuerlöschtrainer
UID:cd961fda38f315047cae650dde503ba1@your-domain.com
URL:https://www.kbi-dachau.de/reservierung-feuerloeschtrainer_v_94.html
END:VEVENT
END:VCALENDAR
	
