BEGIN:VCALENDAR
METHOD:PUBLISH
PRODID:-//Your-Prodid-Here//NONSGML iCalcreator 0.9.15//
VERSION:2.0
BEGIN:VEVENT
CLASS:PUBLIC
DTSTART;VALUE=DATE-TIME:20260603T000000
DTEND;VALUE=DATE-TIME:20260607T235959
DTSTAMP:20260420T052137Z
LOCATION:Feuerwehr Mühlbach
PRIORITY:3
SUMMARY:Reservierung Hüpfburg
UID:2788edcd59afa5d2aec3bfd02cc0780c@your-domain.com
URL:https://www.kbi-dachau.de/reservierung-huepfburg_v_93.html
END:VEVENT
END:VCALENDAR
	
