BEGIN:VCALENDAR
METHOD:PUBLISH
PRODID:-//Your-Prodid-Here//NONSGML iCalcreator 0.9.15//
VERSION:2.0
BEGIN:VEVENT
CLASS:PUBLIC
DTSTART;VALUE=DATE-TIME:20260430T000000
DTEND;VALUE=DATE-TIME:20260504T235959
DTSTAMP:20260420T052020Z
LOCATION:Feuerwehr Feldkirchen
PRIORITY:3
SUMMARY:Reservierung Hüpfburg
UID:644e0f4ae2798282926636c0464d4f17@your-domain.com
URL:https://www.kbi-dachau.de/reservierung-huepfburg_v_92.html
END:VEVENT
END:VCALENDAR
	
