BEGIN:VCALENDAR
METHOD:PUBLISH
PRODID:-//Your-Prodid-Here//NONSGML iCalcreator 0.9.15//
VERSION:2.0
BEGIN:VEVENT
CLASS:PUBLIC
DTSTART;VALUE=DATE-TIME:20240408T000000
DTEND;VALUE=DATE-TIME:20240410T235959
DTSTAMP:20260420T052401Z
LOCATION:Feuerwehr Karlsfeld
PRIORITY:3
SUMMARY:Reservierung Feuerlöschtrainer
UID:8bd61fca6bcde4fcbb7bd099db7b3b2e@your-domain.com
URL:https://www.kbi-dachau.de/reservierung-feuerloeschtrainer_v_91.html
END:VEVENT
END:VCALENDAR
	
