BEGIN:VCALENDAR
METHOD:PUBLISH
PRODID:-//Your-Prodid-Here//NONSGML iCalcreator 0.9.15//
VERSION:2.0
BEGIN:VEVENT
CLASS:PUBLIC
DTSTART;VALUE=DATE-TIME:20240504T000000
DTEND;VALUE=DATE-TIME:20240506T235900
DTSTAMP:20260420T052259Z
LOCATION:Feuerwehr Krailling
PRIORITY:3
SUMMARY:Reservierung Hüpfburg
UID:d2b29ebe08da5b9d0a498998256bada9@your-domain.com
URL:https://www.kbi-dachau.de/reservierung-huepfburg_v_9.html
END:VEVENT
END:VCALENDAR
	
