BEGIN:VCALENDAR
METHOD:PUBLISH
PRODID:-//Your-Prodid-Here//NONSGML iCalcreator 0.9.15//
VERSION:2.0
BEGIN:VEVENT
CLASS:PUBLIC
DTSTART;VALUE=DATE-TIME:20240720T000000
DTEND;VALUE=DATE-TIME:20240722T000000
DTSTAMP:20260420T052111Z
LOCATION:Kreisfeuerwehrverband Dachau
PRIORITY:3
SUMMARY:Reservierung Feuerlöschtrainer
UID:d6c18adff48a4acd460c33a41950a556@your-domain.com
URL:https://www.kbi-dachau.de/reservierung-feuerloeschtrainer_v_89.html
END:VEVENT
END:VCALENDAR
	
