BEGIN:VCALENDAR
METHOD:PUBLISH
PRODID:-//Your-Prodid-Here//NONSGML iCalcreator 0.9.15//
VERSION:2.0
BEGIN:VEVENT
CLASS:PUBLIC
DTSTART;VALUE=DATE-TIME:20241006T000000
DTEND;VALUE=DATE-TIME:20241006T235959
DTSTAMP:20260420T052259Z
LOCATION:Feuerwehr Magnetsried
PRIORITY:3
SUMMARY:Reservierung Hüpfburg
UID:510b1709ee00375697b092a06971d654@your-domain.com
URL:https://www.kbi-dachau.de/reservierung-huepfburg_v_88.html
END:VEVENT
END:VCALENDAR
	
