BEGIN:VCALENDAR
METHOD:PUBLISH
PRODID:-//Your-Prodid-Here//NONSGML iCalcreator 0.9.15//
VERSION:2.0
BEGIN:VEVENT
CLASS:PUBLIC
DTSTART;VALUE=DATE-TIME:20240227T000000
DTEND;VALUE=DATE-TIME:20240227T235959
DTSTAMP:20260420T052020Z
LOCATION:Feuerwehr Haimhausen
PRIORITY:3
SUMMARY:Reservierung Feuerlöschtrainer
UID:a569d8af42a43e1cf3ba1a86d1909d8d@your-domain.com
URL:https://www.kbi-dachau.de/reservierung-feuerloeschtrainer_v_87.html
END:VEVENT
END:VCALENDAR
	
