BEGIN:VCALENDAR
METHOD:PUBLISH
PRODID:-//Your-Prodid-Here//NONSGML iCalcreator 0.9.15//
VERSION:2.0
BEGIN:VEVENT
CLASS:PUBLIC
DTSTART;VALUE=DATE-TIME:20260704T000000
DTEND;VALUE=DATE-TIME:20260704T235959
DTSTAMP:20260420T075215Z
LOCATION:Feuerwehr Pischelsdorf
PRIORITY:3
SUMMARY:Reservierung Hüpfburg
UID:86bafc3606f561814d68958aa15daf01@your-domain.com
URL:https://www.kbi-dachau.de/reservierung-huepfburg_v_86.html
END:VEVENT
END:VCALENDAR
	
