BEGIN:VCALENDAR
METHOD:PUBLISH
PRODID:-//Your-Prodid-Here//NONSGML iCalcreator 0.9.15//
VERSION:2.0
BEGIN:VEVENT
CLASS:PUBLIC
DTSTART;VALUE=DATE-TIME:20240912T190000
DTEND;VALUE=DATE-TIME:20240912T220000
DTSTAMP:20260420T075159Z
LOCATION:Feuerwehr Röhrmoos
PRIORITY:3
SUMMARY:Drohnenvorstellung
UID:50f187df157eb69bc28976e2255574fe@your-domain.com
URL:https://www.kbi-dachau.de/drohnenvorstellung_v_84.html
END:VEVENT
END:VCALENDAR
	
