BEGIN:VCALENDAR
METHOD:PUBLISH
PRODID:-//Your-Prodid-Here//NONSGML iCalcreator 0.9.15//
VERSION:2.0
BEGIN:VEVENT
CLASS:PUBLIC
DTSTART;VALUE=DATE-TIME:20240704T190000
DTEND;VALUE=DATE-TIME:20240704T220000
DTSTAMP:20260420T052253Z
LOCATION:Feuerwehr Röhrmoos
PRIORITY:3
SUMMARY:Drohnenvorstellung
UID:00b30bc21f902b56387fc45c89ea03e1@your-domain.com
URL:https://www.kbi-dachau.de/drohnenvorstellung_v_83.html
END:VEVENT
END:VCALENDAR
	
