BEGIN:VCALENDAR
METHOD:PUBLISH
PRODID:-//Your-Prodid-Here//NONSGML iCalcreator 0.9.15//
VERSION:2.0
BEGIN:VEVENT
CLASS:PUBLIC
DTSTART;VALUE=DATE-TIME:20240713T000000
DTEND;VALUE=DATE-TIME:20240713T235900
DTSTAMP:20260420T111751Z
LOCATION:Feuerwehr Pfaffenhofen a.d. Glonn
PRIORITY:3
SUMMARY:Reservierung Feuerlöschtrainer
UID:156b85de14eb9566425e6435983bd2df@your-domain.com
URL:https://www.kbi-dachau.de/reservierung-feuerloeschtrainer_v_80.html
END:VEVENT
END:VCALENDAR
	
