BEGIN:VCALENDAR
METHOD:PUBLISH
PRODID:-//Your-Prodid-Here//NONSGML iCalcreator 0.9.15//
VERSION:2.0
BEGIN:VEVENT
CLASS:PUBLIC
DTSTART;VALUE=DATE-TIME:20240505T180000
DTEND;VALUE=DATE-TIME:20240505T220000
DTSTAMP:20260420T075215Z
LOCATION:Basilika am Petersberg
PRIORITY:3
SUMMARY:Florianstag
UID:1f5a7be90dc0329f9ea6fe6defdab49b@your-domain.com
URL:https://www.kbi-dachau.de/florianstag_v_79.html
END:VEVENT
END:VCALENDAR
	
