BEGIN:VCALENDAR
METHOD:PUBLISH
PRODID:-//Your-Prodid-Here//NONSGML iCalcreator 0.9.15//
VERSION:2.0
BEGIN:VEVENT
CLASS:PUBLIC
DTSTART;VALUE=DATE-TIME:20240629T000000
DTEND;VALUE=DATE-TIME:20240629T000000
DTSTAMP:20260420T052259Z
LOCATION:Feuerwehr Ampermoching
PRIORITY:3
SUMMARY:Reservierung Feuerlöschtrainer
UID:f0f74fefe3a1bccdfd6f6ba11136a097@your-domain.com
URL:https://www.kbi-dachau.de/reservierung-feuerloeschtrainer_v_72.html
END:VEVENT
END:VCALENDAR
	
