BEGIN:VCALENDAR
METHOD:PUBLISH
PRODID:-//Your-Prodid-Here//NONSGML iCalcreator 0.9.15//
VERSION:2.0
BEGIN:VEVENT
CLASS:PUBLIC
DTSTART;VALUE=DATE-TIME:20241107T190000
DTEND;VALUE=DATE-TIME:20241107T220000
DTSTAMP:20260420T052020Z
LOCATION:
PRIORITY:3
SUMMARY:Kommandantenversammlung
UID:740b3fcab125c6ee50d60dc747796a37@your-domain.com
URL:https://www.kbi-dachau.de/kommandantenversammlung_v_68.html
END:VEVENT
END:VCALENDAR
	
