BEGIN:VCALENDAR
METHOD:PUBLISH
PRODID:-//Your-Prodid-Here//NONSGML iCalcreator 0.9.15//
VERSION:2.0
BEGIN:VEVENT
CLASS:PUBLIC
DTSTART;VALUE=DATE-TIME:20240721T000000
DTEND;VALUE=DATE-TIME:20240721T000000
DTSTAMP:20260420T052258Z
LOCATION:
PRIORITY:3
SUMMARY:Feuerwehr-Aktionstag
UID:d9d500d4ab2fd5792d66b30b3e91ffaa@your-domain.com
URL:https://www.kbi-dachau.de/feuerwehr-aktionstag_v_67.html
END:VEVENT
END:VCALENDAR
	
