BEGIN:VCALENDAR
METHOD:PUBLISH
PRODID:-//Your-Prodid-Here//NONSGML iCalcreator 0.9.15//
VERSION:2.0
BEGIN:VEVENT
CLASS:PUBLIC
DTSTART;VALUE=DATE-TIME:20240815T100000
DTEND;VALUE=DATE-TIME:20240815T140000
DTSTAMP:20260420T052253Z
LOCATION:Volksfest Dachau
PRIORITY:3
SUMMARY:Volksfeststammtisch
UID:d5786fbda9ac0f18b891d982103c85a4@your-domain.com
URL:https://www.kbi-dachau.de/volksfeststammtisch_v_66.html
END:VEVENT
END:VCALENDAR
	
