BEGIN:VCALENDAR
METHOD:PUBLISH
PRODID:-//Your-Prodid-Here//NONSGML iCalcreator 0.9.15//
VERSION:2.0
BEGIN:VEVENT
CLASS:PUBLIC
DTSTART;VALUE=DATE-TIME:20240607T190000
DTEND;VALUE=DATE-TIME:20240607T220000
DTSTAMP:20260420T063340Z
LOCATION:Gastwirtschaft Doll
PRIORITY:3
SUMMARY:Ehrenabend
UID:c7a72e4e718cb313110941073f71cf76@your-domain.com
URL:https://www.kbi-dachau.de/ehrenabend_v_65.html
END:VEVENT
END:VCALENDAR
	
