BEGIN:VCALENDAR
METHOD:PUBLISH
PRODID:-//Your-Prodid-Here//NONSGML iCalcreator 0.9.15//
VERSION:2.0
BEGIN:VEVENT
CLASS:PUBLIC
DTSTART;VALUE=DATE-TIME:20240409T190000
DTEND;VALUE=DATE-TIME:20240409T220000
DTSTAMP:20260420T051832Z
LOCATION:Gastwirtschaft Doll
PRIORITY:3
SUMMARY:Verbandsversammlung
UID:f6ab809b6b5ba6cc85582a044248462d@your-domain.com
URL:https://www.kbi-dachau.de/verbandsversammlung_v_64.html
END:VEVENT
END:VCALENDAR
	
