BEGIN:VCALENDAR
METHOD:PUBLISH
PRODID:-//Your-Prodid-Here//NONSGML iCalcreator 0.9.15//
VERSION:2.0
BEGIN:VEVENT
CLASS:PUBLIC
DTSTART;VALUE=DATE-TIME:20240321T190000
DTEND;VALUE=DATE-TIME:20240321T220000
DTSTAMP:20260420T052213Z
LOCATION:Gasthaus Göttler
PRIORITY:3
SUMMARY:Kommandantenversammlung
UID:90b74e8d29d7ef171edb07ff06d666fa@your-domain.com
URL:https://www.kbi-dachau.de/kommandantenversammlung_v_63.html
END:VEVENT
END:VCALENDAR
	
