BEGIN:VCALENDAR
METHOD:PUBLISH
PRODID:-//Your-Prodid-Here//NONSGML iCalcreator 0.9.15//
VERSION:2.0
BEGIN:VEVENT
CLASS:PUBLIC
DTSTART;VALUE=DATE-TIME:20240615T000000
DTEND;VALUE=DATE-TIME:20240615T000000
DTSTAMP:20260420T052431Z
LOCATION:Katastrophenschutzzentrum
PRIORITY:3
SUMMARY:Fortbildung Jugendwarte
UID:f8e8f8fcd533f8c5643dcf789ab27989@your-domain.com
URL:https://www.kbi-dachau.de/fortbildung-jugendwarte_v_62.html
END:VEVENT
END:VCALENDAR
	
