BEGIN:VCALENDAR
METHOD:PUBLISH
PRODID:-//Your-Prodid-Here//NONSGML iCalcreator 0.9.15//
VERSION:2.0
BEGIN:VEVENT
CLASS:PUBLIC
DTSTART;VALUE=DATE-TIME:20240306T190000
DTEND;VALUE=DATE-TIME:20240306T220000
DTSTAMP:20260420T142106Z
LOCATION:Feuerwehr Odelzhausen
PRIORITY:3
SUMMARY:Frühjahrsdienstversammlung der Jugendwarte
UID:3fd9663569501c66270d6e700f3bb61e@your-domain.com
URL:https://www.kbi-dachau.de/fruehjahrsdienstversammlung-der-jugendwarte_v_61.html
END:VEVENT
END:VCALENDAR
	
