BEGIN:VCALENDAR
METHOD:PUBLISH
PRODID:-//Your-Prodid-Here//NONSGML iCalcreator 0.9.15//
VERSION:2.0
BEGIN:VEVENT
CLASS:PUBLIC
DTSTART;VALUE=DATE-TIME:20241105T190000
DTEND;VALUE=DATE-TIME:20241105T220000
DTSTAMP:20260420T075146Z
LOCATION:Katastrophenschutzzentrum
PRIORITY:3
SUMMARY:Herbstdienstversammlung der Jugendwarte
UID:14ac82fa4db30473f7070b5caa581c2c@your-domain.com
URL:https://www.kbi-dachau.de/herbstdienstversammlung-der-jugendwarte_v_60.html
END:VEVENT
END:VCALENDAR
	
