BEGIN:VCALENDAR
METHOD:PUBLISH
PRODID:-//Your-Prodid-Here//NONSGML iCalcreator 0.9.15//
VERSION:2.0
BEGIN:VEVENT
CLASS:PUBLIC
DTSTART;VALUE=DATE-TIME:20241211T190000
DTEND;VALUE=DATE-TIME:20241211T220000
DTSTAMP:20260420T191206Z
LOCATION:Katastrophenschutzzentrum
PRIORITY:3
SUMMARY:KBM-Dienstbesprechung
UID:26f16ffaf31eff704c1d25d2c3c1b956@your-domain.com
URL:https://www.kbi-dachau.de/kbm-dienstbesprechung_v_59.html
END:VEVENT
END:VCALENDAR
	
