BEGIN:VCALENDAR
METHOD:PUBLISH
PRODID:-//Your-Prodid-Here//NONSGML iCalcreator 0.9.15//
VERSION:2.0
BEGIN:VEVENT
CLASS:PUBLIC
DTSTART;VALUE=DATE-TIME:20241113T190000
DTEND;VALUE=DATE-TIME:20241113T220000
DTSTAMP:20260420T190456Z
LOCATION:Katastrophenschutzzentrum
PRIORITY:3
SUMMARY:KBM-Dienstbesprechung
UID:dbd73c6b7ac95e38c6e411e78bc28b7d@your-domain.com
URL:https://www.kbi-dachau.de/kbm-dienstbesprechung_v_58.html
END:VEVENT
END:VCALENDAR
	
