BEGIN:VCALENDAR
METHOD:PUBLISH
PRODID:-//Your-Prodid-Here//NONSGML iCalcreator 0.9.15//
VERSION:2.0
BEGIN:VEVENT
CLASS:PUBLIC
DTSTART;VALUE=DATE-TIME:20240911T190000
DTEND;VALUE=DATE-TIME:20240911T220000
DTSTAMP:20260420T052405Z
LOCATION:Katastrophenschutzzentrum
PRIORITY:3
SUMMARY:KBM-Dienstbesprechung
UID:bf38cf7be27215aa394f6d0fc26a1ca1@your-domain.com
URL:https://www.kbi-dachau.de/kbm-dienstbesprechung_v_56.html
END:VEVENT
END:VCALENDAR
	
