BEGIN:VCALENDAR
METHOD:PUBLISH
PRODID:-//Your-Prodid-Here//NONSGML iCalcreator 0.9.15//
VERSION:2.0
BEGIN:VEVENT
CLASS:PUBLIC
DTSTART;VALUE=DATE-TIME:20240717T190000
DTEND;VALUE=DATE-TIME:20240717T220000
DTSTAMP:20260420T051949Z
LOCATION:Katastrophenschutzzentrum
PRIORITY:3
SUMMARY:KBM-Dienstbesprechung mit Verbandsausschuss
UID:03c61aab1be51fde7acc5bb47efabbca@your-domain.com
URL:https://www.kbi-dachau.de/kbm-dienstbesprechung-mit-verbandsausschuss_v_55.html
END:VEVENT
END:VCALENDAR
	
