BEGIN:VCALENDAR
METHOD:PUBLISH
PRODID:-//Your-Prodid-Here//NONSGML iCalcreator 0.9.15//
VERSION:2.0
BEGIN:VEVENT
CLASS:PUBLIC
DTSTART;VALUE=DATE-TIME:20240515T190000
DTEND;VALUE=DATE-TIME:20240515T220000
DTSTAMP:20260420T052258Z
LOCATION:Katastrophenschutzzentrum
PRIORITY:3
SUMMARY:KBM-Dienstbesprechung
UID:731815d7b2ea432c492cfb74c46ae503@your-domain.com
URL:https://www.kbi-dachau.de/kbm-dienstbesprechung_v_54.html
END:VEVENT
END:VCALENDAR
	
