BEGIN:VCALENDAR
METHOD:PUBLISH
PRODID:-//Your-Prodid-Here//NONSGML iCalcreator 0.9.15//
VERSION:2.0
BEGIN:VEVENT
CLASS:PUBLIC
DTSTART;VALUE=DATE-TIME:20240417T190000
DTEND;VALUE=DATE-TIME:20240417T220000
DTSTAMP:20260420T142530Z
LOCATION:Katastrophenschutzzentrum
PRIORITY:3
SUMMARY:KBM-Dienstbesprechung
UID:df6cd9fcb593f14c570742d3aabb78e4@your-domain.com
URL:https://www.kbi-dachau.de/kbm-dienstbesprechung_v_53.html
END:VEVENT
END:VCALENDAR
	
