BEGIN:VCALENDAR
METHOD:PUBLISH
PRODID:-//Your-Prodid-Here//NONSGML iCalcreator 0.9.15//
VERSION:2.0
BEGIN:VEVENT
CLASS:PUBLIC
DTSTART;VALUE=DATE-TIME:20240313T190000
DTEND;VALUE=DATE-TIME:20240313T220000
DTSTAMP:20260420T142659Z
LOCATION:Katastrophenschutzzentrum
PRIORITY:3
SUMMARY:KBM-Dienstbesprechung
UID:da6e62468eecc2289804b341b2e24c42@your-domain.com
URL:https://www.kbi-dachau.de/kbm-dienstbesprechung_v_52.html
END:VEVENT
END:VCALENDAR
	
