BEGIN:VCALENDAR
METHOD:PUBLISH
PRODID:-//Your-Prodid-Here//NONSGML iCalcreator 0.9.15//
VERSION:2.0
BEGIN:VEVENT
CLASS:PUBLIC
DTSTART;VALUE=DATE-TIME:20240126T190000
DTEND;VALUE=DATE-TIME:20240126T230000
DTSTAMP:20260420T052259Z
LOCATION:Schlossgut Odelzhausen
PRIORITY:3
SUMMARY:Jahresessen Kreisbrandinspektion
UID:810fce594038aaf27762fbb077a86d0e@your-domain.com
URL:https://www.kbi-dachau.de/jahresessen-kreisbrandinspektion_v_51.html
END:VEVENT
END:VCALENDAR
	
