BEGIN:VCALENDAR
METHOD:PUBLISH
PRODID:-//Your-Prodid-Here//NONSGML iCalcreator 0.9.15//
VERSION:2.0
BEGIN:VEVENT
CLASS:PUBLIC
DTSTART;VALUE=DATE-TIME:20240612T190000
DTEND;VALUE=DATE-TIME:20240612T220000
DTSTAMP:20260420T142647Z
LOCATION:Katastrophenschutzzentrum
PRIORITY:3
SUMMARY:KBM-Dienstbesprechung
UID:8c416ea9486cb14b860b55f4dcdaf109@your-domain.com
URL:https://www.kbi-dachau.de/kbm-dienstbesprechung_v_50.html
END:VEVENT
END:VCALENDAR
	
