BEGIN:VCALENDAR
METHOD:PUBLISH
PRODID:-//Your-Prodid-Here//NONSGML iCalcreator 0.9.15//
VERSION:2.0
BEGIN:VEVENT
CLASS:PUBLIC
DTSTART;VALUE=DATE-TIME:20240616T000000
DTEND;VALUE=DATE-TIME:20240616T235900
DTSTAMP:20260420T052055Z
LOCATION:Feuerwehr Eichhofen
PRIORITY:3
SUMMARY:Reservierung Feuerlöschtrainer
UID:7acaa9c8f8cf5065bc9574b9a7ba2830@your-domain.com
URL:https://www.kbi-dachau.de/reservierung-feuerloeschtrainer_v_5.html
END:VEVENT
END:VCALENDAR
	
