BEGIN:VCALENDAR
METHOD:PUBLISH
PRODID:-//Your-Prodid-Here//NONSGML iCalcreator 0.9.15//
VERSION:2.0
BEGIN:VEVENT
CLASS:PUBLIC
DTSTART;VALUE=DATE-TIME:20240221T190000
DTEND;VALUE=DATE-TIME:20240221T220000
DTSTAMP:20260420T142056Z
LOCATION:Katastrophenschutzzentrum
PRIORITY:3
SUMMARY:KBM-Dienstbesprechung mit Verbandsausschuss
UID:d4bdc83aa7ef2bd0db4cd780cc52f916@your-domain.com
URL:https://www.kbi-dachau.de/kbm-dienstbesprechung_v_49.html
END:VEVENT
END:VCALENDAR
	
