BEGIN:VCALENDAR
METHOD:PUBLISH
PRODID:-//Your-Prodid-Here//NONSGML iCalcreator 0.9.15//
VERSION:2.0
BEGIN:VEVENT
CLASS:PUBLIC
DTSTART;VALUE=DATE-TIME:20260513T000000
DTEND;VALUE=DATE-TIME:20260517T000000
DTSTAMP:20260420T051948Z
LOCATION:Feuerwehr Haimhausen
PRIORITY:3
SUMMARY:155-jähriges Gründungsfest Feuerwehr Haimhausen
UID:e3f81e89a426fe4e9b2203e4bcafea70@your-domain.com
URL:https://www.kbi-dachau.de/155-jaehriges-gruendungsfest-feuerwehr-haimhausen_v_48.html
END:VEVENT
END:VCALENDAR
	
