BEGIN:VCALENDAR
METHOD:PUBLISH
PRODID:-//Your-Prodid-Here//NONSGML iCalcreator 0.9.15//
VERSION:2.0
BEGIN:VEVENT
CLASS:PUBLIC
DTSTART;VALUE=DATE-TIME:20250905T000000
DTEND;VALUE=DATE-TIME:20250907T000000
DTSTAMP:20260420T052111Z
LOCATION:Feuerwehr Pfaffenhofen a.d. Glonn
PRIORITY:3
SUMMARY:125-jähriges Gründungsfest Feuerwehr Pfaffenhofen a.d. Glonn
UID:9a5db046934efea1e7c12880b50748ad@your-domain.com
URL:https://www.kbi-dachau.de/125-jaehriges-gruendungsfest-feuerwehr-pfaffenhofen-ad-glonn_v_47.html
END:VEVENT
END:VCALENDAR
	
