BEGIN:VCALENDAR
METHOD:PUBLISH
PRODID:-//Your-Prodid-Here//NONSGML iCalcreator 0.9.15//
VERSION:2.0
BEGIN:VEVENT
CLASS:PUBLIC
DTSTART;VALUE=DATE-TIME:20260703T000000
DTEND;VALUE=DATE-TIME:20260705T235959
DTSTAMP:20260420T052131Z
LOCATION:Feuerwehr Vierkirchen
PRIORITY:3
SUMMARY:150 Jahre Feuerwehr Vierkirchen
UID:783ca2dc64c415558005c5f05ca06b1a@your-domain.com
URL:https://www.kbi-dachau.de/150-jahre-feuerwehr-vierkirchen_v_45.html
END:VEVENT
END:VCALENDAR
	
