BEGIN:VCALENDAR
METHOD:PUBLISH
PRODID:-//Your-Prodid-Here//NONSGML iCalcreator 0.9.15//
VERSION:2.0
BEGIN:VEVENT
CLASS:PUBLIC
DTSTART;VALUE=DATE-TIME:20250801T000000
DTEND;VALUE=DATE-TIME:20250802T235900
DTSTAMP:20260420T051949Z
LOCATION:Feuerwehr Helfendorf
PRIORITY:3
SUMMARY:Reservierung Hüpfburg
UID:7141135a4cc219df669fde7b72a2f74a@your-domain.com
URL:https://www.kbi-dachau.de/reservierung-huepfburg_v_43.html
END:VEVENT
END:VCALENDAR
	
