BEGIN:VCALENDAR
METHOD:PUBLISH
PRODID:-//Your-Prodid-Here//NONSGML iCalcreator 0.9.15//
VERSION:2.0
BEGIN:VEVENT
CLASS:PUBLIC
DTSTART;VALUE=DATE-TIME:20250724T000000
DTEND;VALUE=DATE-TIME:20250727T235900
DTSTAMP:20260420T052020Z
LOCATION:Feuerwehr Dünzelbach
PRIORITY:3
SUMMARY:Reservierung Hüpfburg
UID:d08163a42928aca91a221c30463fafad@your-domain.com
URL:https://www.kbi-dachau.de/reservierung-huepfburg_v_42.html
END:VEVENT
END:VCALENDAR
	
