BEGIN:VCALENDAR
METHOD:PUBLISH
PRODID:-//Your-Prodid-Here//NONSGML iCalcreator 0.9.15//
VERSION:2.0
BEGIN:VEVENT
CLASS:PUBLIC
DTSTART;VALUE=DATE-TIME:20231231T220000
DTEND;VALUE=DATE-TIME:20231231T233000
DTSTAMP:20260420T051948Z
LOCATION:FwGH Karlsfeld
PRIORITY:3
SUMMARY:Atemschutz Belastungsübung -ALLE 2023-
UID:87fc739de836a461316d55bd80516716@your-domain.com
URL:https://www.kbi-dachau.de/atemschutz-belastungsuebung-alle-2023-_v_4.html
END:VEVENT
END:VCALENDAR
	
