BEGIN:VCALENDAR
METHOD:PUBLISH
PRODID:-//Your-Prodid-Here//NONSGML iCalcreator 0.9.15//
VERSION:2.0
BEGIN:VEVENT
CLASS:PUBLIC
DTSTART;VALUE=DATE-TIME:20250705T000000
DTEND;VALUE=DATE-TIME:20250705T235900
DTSTAMP:20260420T052055Z
LOCATION:Feuerwehr Pischelsdorf
PRIORITY:3
SUMMARY:Reservierung Hüpfburg
UID:550c0194ef7ffee26360908da64b3156@your-domain.com
URL:https://www.kbi-dachau.de/reservierung-huepfburg_v_39.html
END:VEVENT
END:VCALENDAR
	
