BEGIN:VCALENDAR
METHOD:PUBLISH
PRODID:-//Your-Prodid-Here//NONSGML iCalcreator 0.9.15//
VERSION:2.0
BEGIN:VEVENT
CLASS:PUBLIC
DTSTART;VALUE=DATE-TIME:20260524T000000
DTEND;VALUE=DATE-TIME:20260524T235900
DTSTAMP:20260420T052055Z
LOCATION:Feuerwehr Grainbach
PRIORITY:3
SUMMARY:Reservierung Hüpfburg
UID:fe47986b6fdc12ed2ae91bc67fb282c0@your-domain.com
URL:https://www.kbi-dachau.de/reservierung-huepfburg_v_37.html
END:VEVENT
END:VCALENDAR
	
