BEGIN:VCALENDAR
METHOD:PUBLISH
PRODID:-//Your-Prodid-Here//NONSGML iCalcreator 0.9.15//
VERSION:2.0
BEGIN:VEVENT
CLASS:PUBLIC
DTSTART;VALUE=DATE-TIME:20250606T000000
DTEND;VALUE=DATE-TIME:20250608T235900
DTSTAMP:20260420T051948Z
LOCATION:Feuerwehr Altmannstein
PRIORITY:3
SUMMARY:Reservierung Hüpfburg
UID:8f02c70dc80ec8fcd68bc24c92a3035f@your-domain.com
URL:https://www.kbi-dachau.de/reservierung-huepfburg_v_36.html
END:VEVENT
END:VCALENDAR
	
