BEGIN:VCALENDAR
METHOD:PUBLISH
PRODID:-//Your-Prodid-Here//NONSGML iCalcreator 0.9.15//
VERSION:2.0
BEGIN:VEVENT
CLASS:PUBLIC
DTSTART;VALUE=DATE-TIME:20250523T000000
DTEND;VALUE=DATE-TIME:20250525T235900
DTSTAMP:20260420T052055Z
LOCATION:Feuerwehr Eisolzried
PRIORITY:3
SUMMARY:125-jähriges Gründungsfest Feuerwehr Eisolzried
UID:0cf131e6d7ae5ebd809216004d02fcf5@your-domain.com
URL:https://www.kbi-dachau.de/125-jaehriges-jubilaeum-feuerwehr-eisolzried_v_35.html
END:VEVENT
END:VCALENDAR
	
