BEGIN:VCALENDAR
METHOD:PUBLISH
PRODID:-//Your-Prodid-Here//NONSGML iCalcreator 0.9.15//
VERSION:2.0
BEGIN:VEVENT
CLASS:PUBLIC
DTSTART;VALUE=DATE-TIME:20250521T000000
DTEND;VALUE=DATE-TIME:20250527T235900
DTSTAMP:20260420T051948Z
LOCATION:Feuerwehr Pfrombach/Aich
PRIORITY:3
SUMMARY:Reservierung Hüpfburg
UID:a5eecc24dfbd21386bac56d0f8bdeba4@your-domain.com
URL:https://www.kbi-dachau.de/reservierung-huepfburg_v_34.html
END:VEVENT
END:VCALENDAR
	
